View In:
ArcGIS JavaScript
ArcGIS Online Map Viewer
ArcGIS Earth
ArcMap
View Footprint In:
ArcGIS Online Map Viewer
Service Description: OntAirportTunnelAerial
Name: OntAirportTunnelAerial
Description:
Single Fused Map Cache: false
Extent:
XMin: 6657704
YMin: 1813626
XMax: 6719292
YMax: 1885337
Spatial Reference: PROJCS["L2CAL5F83",GEOGCS["GCS_North_American_1983",DATUM["D_North_American_1983",SPHEROID["GRS_1980",6378137.0,298.257222101]],PRIMEM["Greenwich",0.0],UNIT["Degree",0.0174532925199433]],PROJECTION["Lambert_Conformal_Conic"],PARAMETER["false_easting",6561666.665],PARAMETER["false_northing",1640416.666],PARAMETER["central_meridian",-117.9999999797569],PARAMETER["standard_parallel_1",34.03333332786711],PARAMETER["standard_parallel_2",35.46666672163305],PARAMETER["latitude_of_origin",33.49999997604461],UNIT["Foot_US",0.3048006096012192]]
Initial Extent:
XMin: 6657704
YMin: 1813626
XMax: 6719292
YMax: 1885337
Spatial Reference: PROJCS["L2CAL5F83",GEOGCS["GCS_North_American_1983",DATUM["D_North_American_1983",SPHEROID["GRS_1980",6378137.0,298.257222101]],PRIMEM["Greenwich",0.0],UNIT["Degree",0.0174532925199433]],PROJECTION["Lambert_Conformal_Conic"],PARAMETER["false_easting",6561666.665],PARAMETER["false_northing",1640416.666],PARAMETER["central_meridian",-117.9999999797569],PARAMETER["standard_parallel_1",34.03333332786711],PARAMETER["standard_parallel_2",35.46666672163305],PARAMETER["latitude_of_origin",33.49999997604461],UNIT["Foot_US",0.3048006096012192]]
Full Extent:
XMin: 6657704
YMin: 1813626
XMax: 6719292
YMax: 1885337
Spatial Reference: PROJCS["L2CAL5F83",GEOGCS["GCS_North_American_1983",DATUM["D_North_American_1983",SPHEROID["GRS_1980",6378137.0,298.257222101]],PRIMEM["Greenwich",0.0],UNIT["Degree",0.0174532925199433]],PROJECTION["Lambert_Conformal_Conic"],PARAMETER["false_easting",6561666.665],PARAMETER["false_northing",1640416.666],PARAMETER["central_meridian",-117.9999999797569],PARAMETER["standard_parallel_1",34.03333332786711],PARAMETER["standard_parallel_2",35.46666672163305],PARAMETER["latitude_of_origin",33.49999997604461],UNIT["Foot_US",0.3048006096012192]]
Pixel Size X: 1.0
Pixel Size Y: 1.0
Band Count: 3
Pixel Type: U16
RasterFunction Infos: {"rasterFunctionInfos": [{
"name": "None",
"description": "",
"help": ""
}]}
Mensuration Capabilities: Basic
Has Histograms: true
Has Colormap: false
Has Multi Dimensions : false
Rendering Rule:
Min Scale: 0
Max Scale: 0
Copyright Text:
Service Data Type: esriImageServiceDataTypeGeneric
Min Values: 0, 0, 0
Max Values: 255, 255, 255
Mean Values: 113.35034196877, 112.34639842683, 96.879992902875
Standard Deviation Values: 52.181276860963, 48.923109927165, 46.434935397595
Object ID Field:
Fields:
None
Default Mosaic Method: Center
Allowed Mosaic Methods:
SortField:
SortValue: null
Mosaic Operator: First
Default Compression Quality: 75
Default Resampling Method: Bilinear
Max Record Count: null
Max Image Height: 4100
Max Image Width: 15000
Max Download Image Count: null
Max Mosaic Image Count: null
Allow Raster Function: true
Allow Copy: null
Allow Analysis: null
Allow Compute TiePoints: false
Supports Statistics: false
Supports Advanced Queries: false
Use StandardizedQueries: true
Raster Type Infos:
Name: Raster Dataset
Description: Supports all ArcGIS Raster Datasets
Help:
Has Raster Attribute Table: false
Edit Fields Info: null
Ownership Based AccessControl For Rasters: null
Child Resources:
Info
Histograms
Key Properties
Legend
Raster Function Infos
Supported Operations:
Export Image
Identify
Measure
Compute Histograms
Compute Statistics Histograms
Get Samples
Compute Class Statistics
Query Boundary
Compute Pixel Location
Validate
Project