{
 "currentVersion": 10.81,
 "serviceDescription": "OntAirportTunnelAerial",
 "name": "OntAirportTunnelAerial",
 "description": "",
 "extent": {
  "xmin": 6657704,
  "ymin": 1813626,
  "xmax": 6719292,
  "ymax": 1885337,
  "spatialReference": {
   "wkt": "PROJCS[\"L2CAL5F83\",GEOGCS[\"GCS_North_American_1983\",DATUM[\"D_North_American_1983\",SPHEROID[\"GRS_1980\",6378137.0,298.257222101]],PRIMEM[\"Greenwich\",0.0],UNIT[\"Degree\",0.0174532925199433]],PROJECTION[\"Lambert_Conformal_Conic\"],PARAMETER[\"false_easting\",6561666.665],PARAMETER[\"false_northing\",1640416.666],PARAMETER[\"central_meridian\",-117.9999999797569],PARAMETER[\"standard_parallel_1\",34.03333332786711],PARAMETER[\"standard_parallel_2\",35.46666672163305],PARAMETER[\"latitude_of_origin\",33.49999997604461],UNIT[\"Foot_US\",0.3048006096012192]]"
  }
 },
 "initialExtent": {
  "xmin": 6657704,
  "ymin": 1813626,
  "xmax": 6719292,
  "ymax": 1885337,
  "spatialReference": {
   "wkt": "PROJCS[\"L2CAL5F83\",GEOGCS[\"GCS_North_American_1983\",DATUM[\"D_North_American_1983\",SPHEROID[\"GRS_1980\",6378137.0,298.257222101]],PRIMEM[\"Greenwich\",0.0],UNIT[\"Degree\",0.0174532925199433]],PROJECTION[\"Lambert_Conformal_Conic\"],PARAMETER[\"false_easting\",6561666.665],PARAMETER[\"false_northing\",1640416.666],PARAMETER[\"central_meridian\",-117.9999999797569],PARAMETER[\"standard_parallel_1\",34.03333332786711],PARAMETER[\"standard_parallel_2\",35.46666672163305],PARAMETER[\"latitude_of_origin\",33.49999997604461],UNIT[\"Foot_US\",0.3048006096012192]]"
  }
 },
 "fullExtent": {
  "xmin": 6657704,
  "ymin": 1813626,
  "xmax": 6719292,
  "ymax": 1885337,
  "spatialReference": {
   "wkt": "PROJCS[\"L2CAL5F83\",GEOGCS[\"GCS_North_American_1983\",DATUM[\"D_North_American_1983\",SPHEROID[\"GRS_1980\",6378137.0,298.257222101]],PRIMEM[\"Greenwich\",0.0],UNIT[\"Degree\",0.0174532925199433]],PROJECTION[\"Lambert_Conformal_Conic\"],PARAMETER[\"false_easting\",6561666.665],PARAMETER[\"false_northing\",1640416.666],PARAMETER[\"central_meridian\",-117.9999999797569],PARAMETER[\"standard_parallel_1\",34.03333332786711],PARAMETER[\"standard_parallel_2\",35.46666672163305],PARAMETER[\"latitude_of_origin\",33.49999997604461],UNIT[\"Foot_US\",0.3048006096012192]]"
  }
 },
 "pixelSizeX": 1,
 "pixelSizeY": 1,
 "bandCount": 3,
 "pixelType": "U16",
 "minPixelSize": 0,
 "maxPixelSize": 0,
 "copyrightText": "",
 "serviceDataType": "esriImageServiceDataTypeGeneric",
 "minValues": [
  0,
  0,
  0
 ],
 "maxValues": [
  255,
  255,
  255
 ],
 "meanValues": [
  113.35034196877,
  112.34639842683,
  96.879992902875
 ],
 "stdvValues": [
  52.181276860963,
  48.923109927165,
  46.434935397595
 ],
 "objectIdField": "",
 "fields": [],
 "capabilities": "Mensuration,Image,Metadata",
 "defaultMosaicMethod": "Center",
 "allowedMosaicMethods": "",
 "sortField": "",
 "sortValue": null,
 "sortAscending": true,
 "mosaicOperator": "First",
 "defaultCompressionQuality": 75,
 "defaultResamplingMethod": "Bilinear",
 "maxImageHeight": 4100,
 "maxImageWidth": 15000,
 "allowRasterFunction": true,
 "rasterFunctionInfos": [
  {
   "name": "None",
   "description": "",
   "help": ""
  }
 ],
 "rasterTypeInfos": [
  {
   "name": "Raster Dataset",
   "description": "Supports all ArcGIS Raster Datasets",
   "help": ""
  }
 ],
 "mensurationCapabilities": "Basic",
 "hasHistograms": true,
 "hasColormap": false,
 "hasRasterAttributeTable": false,
 "minScale": 0,
 "maxScale": 0,
 "exportTilesAllowed": false,
 "hasMultidimensions": false,
 "supportsStatistics": false,
 "supportsAdvancedQueries": false,
 "editFieldsInfo": null,
 "ownershipBasedAccessControlForRasters": null,
 "allowComputeTiePoints": false,
 "useStandardizedQueries": true,
 "advancedQueryCapabilities": {
  "useStandardizedQueries": true,
  "supportsStatistics": false,
  "supportsOrderBy": false,
  "supportsDistinct": false,
  "supportsPagination": false
 },
 "spatialReference": {
  "wkt": "PROJCS[\"L2CAL5F83\",GEOGCS[\"GCS_North_American_1983\",DATUM[\"D_North_American_1983\",SPHEROID[\"GRS_1980\",6378137.0,298.257222101]],PRIMEM[\"Greenwich\",0.0],UNIT[\"Degree\",0.0174532925199433]],PROJECTION[\"Lambert_Conformal_Conic\"],PARAMETER[\"false_easting\",6561666.665],PARAMETER[\"false_northing\",1640416.666],PARAMETER[\"central_meridian\",-117.9999999797569],PARAMETER[\"standard_parallel_1\",34.03333332786711],PARAMETER[\"standard_parallel_2\",35.46666672163305],PARAMETER[\"latitude_of_origin\",33.49999997604461],UNIT[\"Foot_US\",0.3048006096012192]]"
 }
}
